BEGIN:VCALENDAR
PRODID:-//Microsoft Corporation//Outlook MIMEDIR//EN
VERSION:2.0
METHOD:PUBLISH
BEGIN:VEVENT
DTSTART:20260420T174500
DTEND:20260420T184500
DESCRIPTION:
LOCATION:Council Chambers 710 E San Augustine Deer Park, TX  77536
SUMMARY:Fire Control District
CATEGORIES:MEETING
END:VEVENT
END:VCALENDAR
